BEGIN:VCALENDAR
VERSION:2.0
PRODID:-//Rose Website - ECPv6.15.20//NONSGML v1.0//EN
CALSCALE:GREGORIAN
METHOD:PUBLISH
X-WR-CALNAME:Rose Website
X-ORIGINAL-URL:https://rose.osea.org
X-WR-CALDESC:Events for Rose Website
REFRESH-INTERVAL;VALUE=DURATION:PT1H
X-Robots-Tag:noindex
X-PUBLISHED-TTL:PT1H
BEGIN:VTIMEZONE
TZID:America/Los_Angeles
BEGIN:DAYLIGHT
TZOFFSETFROM:-0800
TZOFFSETTO:-0700
TZNAME:PDT
DTSTART:20240310T100000
END:DAYLIGHT
BEGIN:STANDARD
TZOFFSETFROM:-0700
TZOFFSETTO:-0800
TZNAME:PST
DTSTART:20241103T090000
END:STANDARD
BEGIN:DAYLIGHT
TZOFFSETFROM:-0800
TZOFFSETTO:-0700
TZNAME:PDT
DTSTART:20250309T100000
END:DAYLIGHT
BEGIN:STANDARD
TZOFFSETFROM:-0700
TZOFFSETTO:-0800
TZNAME:PST
DTSTART:20251102T090000
END:STANDARD
BEGIN:DAYLIGHT
TZOFFSETFROM:-0800
TZOFFSETTO:-0700
TZNAME:PDT
DTSTART:20260308T100000
END:DAYLIGHT
BEGIN:STANDARD
TZOFFSETFROM:-0700
TZOFFSETTO:-0800
TZNAME:PST
DTSTART:20261101T090000
END:STANDARD
BEGIN:DAYLIGHT
TZOFFSETFROM:-0800
TZOFFSETTO:-0700
TZNAME:PDT
DTSTART:20270314T100000
END:DAYLIGHT
BEGIN:STANDARD
TZOFFSETFROM:-0700
TZOFFSETTO:-0800
TZNAME:PST
DTSTART:20271107T090000
END:STANDARD
END:VTIMEZONE
BEGIN:VEVENT
DTSTART;TZID=America/Los_Angeles:20260119T000000
DTEND;TZID=America/Los_Angeles:20260119T235959
DTSTAMP:20260423T171851
CREATED:20250802T163939Z
LAST-MODIFIED:20250802T163939Z
UID:1312-1768780800-1768867199@rose.osea.org
SUMMARY:MLK Day
DESCRIPTION:
URL:https://rose.osea.org/event/mlk-day/
END:VEVENT
BEGIN:VEVENT
DTSTART;TZID=America/Los_Angeles:20260109T140000
DTEND;TZID=America/Los_Angeles:20260109T150000
DTSTAMP:20260423T171851
CREATED:20250802T003055Z
LAST-MODIFIED:20251206T010503Z
UID:1285-1767967200-1767970800@rose.osea.org
SUMMARY:ROSE Meeting (Zoom)
DESCRIPTION:
URL:https://rose.osea.org/event/rose-meeting-zoom-4/
END:VEVENT
BEGIN:VEVENT
DTSTART;TZID=America/Los_Angeles:20260101T000000
DTEND;TZID=America/Los_Angeles:20260101T235959
DTSTAMP:20260423T171851
CREATED:20250802T163909Z
LAST-MODIFIED:20250802T163909Z
UID:1310-1767225600-1767311999@rose.osea.org
SUMMARY:New Year's Day
DESCRIPTION:
URL:https://rose.osea.org/event/new-years-day/
END:VEVENT
BEGIN:VEVENT
DTSTART;TZID=America/Los_Angeles:20251225T000000
DTEND;TZID=America/Los_Angeles:20251225T235959
DTSTAMP:20260423T171851
CREATED:20250802T163841Z
LAST-MODIFIED:20250802T163841Z
UID:1308-1766620800-1766707199@rose.osea.org
SUMMARY:Christmas Day
DESCRIPTION:
URL:https://rose.osea.org/event/christmas-day/
END:VEVENT
BEGIN:VEVENT
DTSTART;TZID=America/Los_Angeles:20251205T140000
DTEND;TZID=America/Los_Angeles:20251205T150000
DTSTAMP:20260423T171851
CREATED:20250802T003024Z
LAST-MODIFIED:20250802T003024Z
UID:1283-1764943200-1764946800@rose.osea.org
SUMMARY:ROSE Meeting (Zoom)
DESCRIPTION:
URL:https://rose.osea.org/event/rose-meeting-zoom-3/
END:VEVENT
BEGIN:VEVENT
DTSTART;TZID=America/Los_Angeles:20251127T000000
DTEND;TZID=America/Los_Angeles:20251127T235959
DTSTAMP:20260423T171851
CREATED:20250802T163814Z
LAST-MODIFIED:20250802T163814Z
UID:1306-1764201600-1764287999@rose.osea.org
SUMMARY:Thanksgiving Day
DESCRIPTION:
URL:https://rose.osea.org/event/thanksgiving-day/
END:VEVENT
BEGIN:VEVENT
DTSTART;TZID=America/Los_Angeles:20251111T000000
DTEND;TZID=America/Los_Angeles:20251111T235959
DTSTAMP:20260423T171851
CREATED:20250802T163744Z
LAST-MODIFIED:20250802T163744Z
UID:1304-1762819200-1762905599@rose.osea.org
SUMMARY:Veterans Day
DESCRIPTION:
URL:https://rose.osea.org/event/veterans-day/
END:VEVENT
BEGIN:VEVENT
DTSTART;TZID=America/Los_Angeles:20251107T140000
DTEND;TZID=America/Los_Angeles:20251107T150000
DTSTAMP:20260423T171851
CREATED:20250802T002953Z
LAST-MODIFIED:20251004T002154Z
UID:1281-1762524000-1762527600@rose.osea.org
SUMMARY:ROSE Meeting (Zoom) CANCELLED
DESCRIPTION:This meeting has been cancelled.  Our next scheduled meeting will be held on December 5th via Zoom.
URL:https://rose.osea.org/event/rose-meeting-zoom-2/
END:VEVENT
BEGIN:VEVENT
DTSTART;TZID=America/Los_Angeles:20251013T000000
DTEND;TZID=America/Los_Angeles:20251013T235959
DTSTAMP:20260423T171851
CREATED:20250802T163411Z
LAST-MODIFIED:20250802T163411Z
UID:1302-1760313600-1760399999@rose.osea.org
SUMMARY:Columbus Day
DESCRIPTION:
URL:https://rose.osea.org/event/columbus-day/
END:VEVENT
BEGIN:VEVENT
DTSTART;TZID=America/Los_Angeles:20251003T103000
DTEND;TZID=America/Los_Angeles:20251003T143000
DTSTAMP:20260423T171851
CREATED:20250802T002847Z
LAST-MODIFIED:20250802T002847Z
UID:1279-1759487400-1759501800@rose.osea.org
SUMMARY:ROSE Meeting (In Person - OSEA State Office)
DESCRIPTION:
URL:https://rose.osea.org/event/rose-meeting-in-person-osea-state-office/
END:VEVENT
BEGIN:VEVENT
DTSTART;TZID=America/Los_Angeles:20250905T140000
DTEND;TZID=America/Los_Angeles:20250905T150000
DTSTAMP:20260423T171851
CREATED:20250802T003626Z
LAST-MODIFIED:20250802T003626Z
UID:1298-1757080800-1757084400@rose.osea.org
SUMMARY:ROSE Meeting (Zoom)
DESCRIPTION:
URL:https://rose.osea.org/event/rose-meeting-zoom-8/
END:VEVENT
BEGIN:VEVENT
DTSTART;TZID=America/Los_Angeles:20250901T000000
DTEND;TZID=America/Los_Angeles:20250901T235959
DTSTAMP:20260423T171851
CREATED:20250802T163342Z
LAST-MODIFIED:20250802T163342Z
UID:1300-1756684800-1756771199@rose.osea.org
SUMMARY:Labor Day
DESCRIPTION:
URL:https://rose.osea.org/event/labor-day/
END:VEVENT
BEGIN:VEVENT
DTSTART;TZID=America/Los_Angeles:20250801T140000
DTEND;TZID=America/Los_Angeles:20250801T150000
DTSTAMP:20260423T171851
CREATED:20250802T002905Z
LAST-MODIFIED:20250802T003500Z
UID:1277-1754056800-1754060400@rose.osea.org
SUMMARY:ROSE Meeting (Zoom)
DESCRIPTION:
URL:https://rose.osea.org/event/rose-meeting-zoom/
END:VEVENT
BEGIN:VEVENT
DTSTART;TZID=America/Los_Angeles:20250626T000000
DTEND;TZID=America/Los_Angeles:20250628T235959
DTSTAMP:20260423T171851
CREATED:20240803T102307Z
LAST-MODIFIED:20240803T102307Z
UID:1087-1750896000-1751155199@rose.osea.org
SUMMARY:OSEA State Conference
DESCRIPTION:Holiday Inn\, Jantzen Beach
URL:https://rose.osea.org/event/osea-state-conference/
END:VEVENT
BEGIN:VEVENT
DTSTART;TZID=America/Los_Angeles:20250606T103000
DTEND;TZID=America/Los_Angeles:20250606T140000
DTSTAMP:20260423T171851
CREATED:20240623T235321Z
LAST-MODIFIED:20240803T102156Z
UID:1008-1749205800-1749218400@rose.osea.org
SUMMARY:ROSE Meeting - In Person
DESCRIPTION:Meeting in person at OSEA State Office\, 4735 Liberty Rd S. Salem\, OR
URL:https://rose.osea.org/event/rose-meeting-jun-25-tbd/
END:VEVENT
BEGIN:VEVENT
DTSTART;TZID=America/Los_Angeles:20250517T000000
DTEND;TZID=America/Los_Angeles:20250517T235959
DTSTAMP:20260423T171851
CREATED:20240904T224747Z
LAST-MODIFIED:20240904T224747Z
UID:1145-1747440000-1747526399@rose.osea.org
SUMMARY:OSEA Board Work Session & Meeting
DESCRIPTION:Virtual meeting
URL:https://rose.osea.org/event/osea-board-work-session-meeting-3/
END:VEVENT
BEGIN:VEVENT
DTSTART;TZID=America/Los_Angeles:20250502T140000
DTEND;TZID=America/Los_Angeles:20250502T150000
DTSTAMP:20260423T171851
CREATED:20240623T235248Z
LAST-MODIFIED:20240803T102108Z
UID:1006-1746194400-1746198000@rose.osea.org
SUMMARY:ROSE Meeting - Virtual
DESCRIPTION:Virtual meeting via Microsoft Teams – Email info@rose.osea.org for invite to meeting.
URL:https://rose.osea.org/event/rose-meeting-may-25-tbd/
END:VEVENT
END:VCALENDAR