BEGIN:VCALENDAR
VERSION:2.0
PRODID:-//Rose Website - ECPv6.15.20//NONSGML v1.0//EN
CALSCALE:GREGORIAN
METHOD:PUBLISH
X-ORIGINAL-URL:https://rose.osea.org
X-WR-CALDESC:Events for Rose Website
REFRESH-INTERVAL;VALUE=DURATION:PT1H
X-Robots-Tag:noindex
X-PUBLISHED-TTL:PT1H
BEGIN:VTIMEZONE
TZID:America/Los_Angeles
BEGIN:DAYLIGHT
TZOFFSETFROM:-0800
TZOFFSETTO:-0700
TZNAME:PDT
DTSTART:20250309T100000
END:DAYLIGHT
BEGIN:STANDARD
TZOFFSETFROM:-0700
TZOFFSETTO:-0800
TZNAME:PST
DTSTART:20251102T090000
END:STANDARD
BEGIN:DAYLIGHT
TZOFFSETFROM:-0800
TZOFFSETTO:-0700
TZNAME:PDT
DTSTART:20260308T100000
END:DAYLIGHT
BEGIN:STANDARD
TZOFFSETFROM:-0700
TZOFFSETTO:-0800
TZNAME:PST
DTSTART:20261101T090000
END:STANDARD
BEGIN:DAYLIGHT
TZOFFSETFROM:-0800
TZOFFSETTO:-0700
TZNAME:PDT
DTSTART:20270314T100000
END:DAYLIGHT
BEGIN:STANDARD
TZOFFSETFROM:-0700
TZOFFSETTO:-0800
TZNAME:PST
DTSTART:20271107T090000
END:STANDARD
END:VTIMEZONE
BEGIN:VEVENT
DTSTART;TZID=America/Los_Angeles:20260403T103000
DTEND;TZID=America/Los_Angeles:20260403T143000
DTSTAMP:20260423T171944
CREATED:20250802T003311Z
LAST-MODIFIED:20260110T005338Z
UID:1292-1775212200-1775226600@rose.osea.org
SUMMARY:ROSE Meeting In-Person OSEA State Office
DESCRIPTION:
URL:https://rose.osea.org/event/rose-meeting-zoom-6/
END:VEVENT
BEGIN:VEVENT
DTSTART;TZID=America/Los_Angeles:20260501T140000
DTEND;TZID=America/Los_Angeles:20260501T150000
DTSTAMP:20260423T171944
CREATED:20250802T003346Z
LAST-MODIFIED:20250802T003346Z
UID:1294-1777644000-1777647600@rose.osea.org
SUMMARY:ROSE Meeting (Zoom)
DESCRIPTION:
URL:https://rose.osea.org/event/rose-meeting-zoom-7/
END:VEVENT
BEGIN:VEVENT
DTSTART;TZID=America/Los_Angeles:20260525T000000
DTEND;TZID=America/Los_Angeles:20260525T235959
DTSTAMP:20260423T171944
CREATED:20250802T164035Z
LAST-MODIFIED:20250802T164035Z
UID:1316-1779667200-1779753599@rose.osea.org
SUMMARY:Memorial Day
DESCRIPTION:
URL:https://rose.osea.org/event/memorial-day/
END:VEVENT
BEGIN:VEVENT
DTSTART;TZID=America/Los_Angeles:20260605T103000
DTEND;TZID=America/Los_Angeles:20260605T143000
DTSTAMP:20260423T171944
CREATED:20250802T003428Z
LAST-MODIFIED:20250802T003428Z
UID:1296-1780655400-1780669800@rose.osea.org
SUMMARY:ROSE Meeting (In Person - OSEA State Office)
DESCRIPTION:
URL:https://rose.osea.org/event/rose-meeting-in-person-osea-state-office-3/
END:VEVENT
BEGIN:VEVENT
DTSTART;TZID=America/Los_Angeles:20260625T000000
DTEND;TZID=America/Los_Angeles:20260627T235959
DTSTAMP:20260423T171944
CREATED:20260306T235300Z
LAST-MODIFIED:20260306T235300Z
UID:1445-1782345600-1782604799@rose.osea.org
SUMMARY:OSEA Conference
DESCRIPTION:
URL:https://rose.osea.org/event/osea-conference/
END:VEVENT
BEGIN:VEVENT
DTSTART;TZID=America/Los_Angeles:20260703T000000
DTEND;TZID=America/Los_Angeles:20260703T235959
DTSTAMP:20260423T171944
CREATED:20250802T164112Z
LAST-MODIFIED:20250802T164112Z
UID:1318-1783036800-1783123199@rose.osea.org
SUMMARY:Independence Day
DESCRIPTION:
URL:https://rose.osea.org/event/independence-day/
END:VEVENT
BEGIN:VEVENT
DTSTART;TZID=America/Los_Angeles:20260907T000000
DTEND;TZID=America/Los_Angeles:20260907T235959
DTSTAMP:20260423T171944
CREATED:20250802T164142Z
LAST-MODIFIED:20250802T164142Z
UID:1320-1788739200-1788825599@rose.osea.org
SUMMARY:Labor Day
DESCRIPTION:
URL:https://rose.osea.org/event/labor-day-2/
END:VEVENT
BEGIN:VEVENT
DTSTART;TZID=America/Los_Angeles:20261012T000000
DTEND;TZID=America/Los_Angeles:20261012T235959
DTSTAMP:20260423T171944
CREATED:20250802T164211Z
LAST-MODIFIED:20250802T164211Z
UID:1322-1791763200-1791849599@rose.osea.org
SUMMARY:Columbus Day
DESCRIPTION:
URL:https://rose.osea.org/event/columbus-day-2/
END:VEVENT
BEGIN:VEVENT
DTSTART;TZID=America/Los_Angeles:20261111T000000
DTEND;TZID=America/Los_Angeles:20261111T235959
DTSTAMP:20260423T171944
CREATED:20250802T164248Z
LAST-MODIFIED:20250802T164532Z
UID:1324-1794355200-1794441599@rose.osea.org
SUMMARY:Veterans Day
DESCRIPTION:
URL:https://rose.osea.org/event/veterans-day-2/
END:VEVENT
BEGIN:VEVENT
DTSTART;TZID=America/Los_Angeles:20261126T000000
DTEND;TZID=America/Los_Angeles:20261126T235959
DTSTAMP:20260423T171944
CREATED:20250802T164313Z
LAST-MODIFIED:20250802T164313Z
UID:1326-1795651200-1795737599@rose.osea.org
SUMMARY:Thanksgiving Day
DESCRIPTION:
URL:https://rose.osea.org/event/thanksgiving-day-2/
END:VEVENT
BEGIN:VEVENT
DTSTART;TZID=America/Los_Angeles:20261225T000000
DTEND;TZID=America/Los_Angeles:20261225T235959
DTSTAMP:20260423T171944
CREATED:20250802T164339Z
LAST-MODIFIED:20250802T164339Z
UID:1328-1798156800-1798243199@rose.osea.org
SUMMARY:Christmas Day
DESCRIPTION:
URL:https://rose.osea.org/event/christmas-day-2/
END:VEVENT
END:VCALENDAR