BEGIN:VCALENDAR
VERSION:2.0
PRODID:-//Rose Website - ECPv6.15.20//NONSGML v1.0//EN
CALSCALE:GREGORIAN
METHOD:PUBLISH
X-ORIGINAL-URL:https://rose.osea.org
X-WR-CALDESC:Events for Rose Website
REFRESH-INTERVAL;VALUE=DURATION:PT1H
X-Robots-Tag:noindex
X-PUBLISHED-TTL:PT1H
BEGIN:VTIMEZONE
TZID:America/Los_Angeles
BEGIN:DAYLIGHT
TZOFFSETFROM:-0800
TZOFFSETTO:-0700
TZNAME:PDT
DTSTART:20250309T100000
END:DAYLIGHT
BEGIN:STANDARD
TZOFFSETFROM:-0700
TZOFFSETTO:-0800
TZNAME:PST
DTSTART:20251102T090000
END:STANDARD
BEGIN:DAYLIGHT
TZOFFSETFROM:-0800
TZOFFSETTO:-0700
TZNAME:PDT
DTSTART:20260308T100000
END:DAYLIGHT
BEGIN:STANDARD
TZOFFSETFROM:-0700
TZOFFSETTO:-0800
TZNAME:PST
DTSTART:20261101T090000
END:STANDARD
BEGIN:DAYLIGHT
TZOFFSETFROM:-0800
TZOFFSETTO:-0700
TZNAME:PDT
DTSTART:20270314T100000
END:DAYLIGHT
BEGIN:STANDARD
TZOFFSETFROM:-0700
TZOFFSETTO:-0800
TZNAME:PST
DTSTART:20271107T090000
END:STANDARD
END:VTIMEZONE
BEGIN:VEVENT
DTSTART;TZID=America/Los_Angeles:20260501T140000
DTEND;TZID=America/Los_Angeles:20260501T150000
DTSTAMP:20260423T082958
CREATED:20250802T003346Z
LAST-MODIFIED:20250802T003346Z
UID:1294-1777644000-1777647600@rose.osea.org
SUMMARY:ROSE Meeting (Zoom)
DESCRIPTION:
URL:https://rose.osea.org/event/rose-meeting-zoom-7/
END:VEVENT
BEGIN:VEVENT
DTSTART;TZID=America/Los_Angeles:20260525T000000
DTEND;TZID=America/Los_Angeles:20260525T235959
DTSTAMP:20260423T082958
CREATED:20250802T164035Z
LAST-MODIFIED:20250802T164035Z
UID:1316-1779667200-1779753599@rose.osea.org
SUMMARY:Memorial Day
DESCRIPTION:
URL:https://rose.osea.org/event/memorial-day/
END:VEVENT
END:VCALENDAR